Workbook

Sheet Rekentool vulvolume
E2: Aantal m² | F2: 300
B3: Formaat | C3: Aantal stenen per m² | D3: % waterdoorlaat-baarheid | E3: % begroeibaar grasoppervlak | F3: Vulvolume (in m³)
A4: Draino | B4: 22x11x8 | C4: 41 | D4: 10,30% | E4: - | F4: =rekenblad!H7 -> 3.2469048
B5: 22x11x10 | C5: 41 | D5: 10,30% | E5: - | F5: =rekenblad!H8 -> 4.058631
A6: Hydro Brick | B6: 20x6.7x8 | C6: 74.63 | D6: 0.1153 | E6: - | F6: =rekenblad!H11 -> 2.9092938
A7: Hydro Store+ | B7: 22x11x8 | C7: 41 | D7: > 5,4 x 10-05 m/s(1) | E7: - | F7: =rekenblad!H12 -> 0.9701502
B8: 22x22x8 | C8: 20.5 | D8: > 5,4 x 10-05 m/s(1) | E8: - | F8: =rekenblad!H13 -> 0.64191855
A9: Ecoroc | B9: 15x15x8 | C9: 44.44 | D9: 0.128 | E9: - | F9: =rekenblad!H16 -> 3.1650168
A10: Hydro Lineo 22 | B10: 30x10x8 | C10: 33.33 | D10: 0.18 | E10: 0.22 | F10: =rekenblad!H18 -> 5.0482951
A11: Hydro Lineo 40 | B11: 30x10x8 | C11: 33.33 | D11: 0.34 | E11: 0.4 | F11: =rekenblad!H19 -> 8.6431356
A12: Hydro Lineo 22 | B12: 30x10x8 | C12: 33.33 | D12: 0.18 | E12: 0.22 | F12: =rekenblad!H20 -> 5.39946
A13: Hydro Lineo 40 | B13: 30x10x8 | C13: 33.33 | D13: 0.34 | E13: 0.4 | F13: =rekenblad!H21 -> 9.569043
A14: Hydro Lineo XL 25 | B14: 60x30x16 | C14: 5.55 | D14: 0.1735 | E14: 0.1735 | F14: =rekenblad!H22 -> 9.0260716
A15: Hydro Lineo XL 50 | B15: 60x30x16 | C15: 5.55 | D15: 0.3175 | E15: 0.4113 | F15: =rekenblad!H23 -> 16.977497
A16: GBT Hydro Lineo | B16: 30x30x10 | C16: 11.11 | D16: 0.3 | E16: 0.4 | F16: =rekenblad!H24 -> 9.5621804
A17: GBT 60x40x10 VLAK | B17: 60x40x10 | C17: 4.17 | D17: 0.401 | E17: 0.401 | F17: =rekenblad!H25 -> 11.978678
A18: GBT 60x40x12 VLAK | B18: 60x40x12 | C18: 4.17 | D18: 0.401 | E18: 0.401 | F18: =rekenblad!H26 -> 14.374414
A19: GBT 60x40x12 GROEF | B19: 60x40x12 | C19: 4.17 | D19: 0.401 | E19: 0.661 | F19: =rekenblad!H27 -> 15.44615
A20: GBT Virage | B20: 30x30x12 | C20: 11.11 | D20: 0.35 | E20: 0.46 | F20: =rekenblad!H31 -> 13.828497
A21: GBT Mirum | B21: 60x40x12 | C21: 4.17 | D21: 0.319 | E21: 0.48 | F21: =rekenblad!H32 -> 12.771871
B23: (1) Percentage waterdoorlaatbaarheid is hier niet van toepassing, minimaal debiet van 5,4 x 10-05 m/s.

Sheet rekenblad
G4: STRADUS | H4: MARLUX
B5: formaat | D5: # stenen/m² | E5: vulvolume/steen (in cm³) | F5: vulvolume per m² (in m³) | G5: vulvolume voor onderstaande aantal m² | L5: volume rastermaat | M5: volume steen | N5: op te vullen volume
G6: ='[1]STRADUS NL (2)'!F2 -> 100 | H6: ='Rekentool vulvolume'!F2 -> 300
A7: Draino | B7: 22x11x8 | D7: 41 | E7: =N7 -> 263.976 | F7: =D7*E7/1000000 -> 0.010823016 | G7: =$G$6*F7 -> 1.0823016 | H7: =$H$6*F7 -> 3.2469048 | L7: =22*11*8 -> 1936 | M7: 1672.024 | N7: =L7-M7 -> 263.976
B8: 22x11x10 | D8: 41 | E8: =N8 -> 329.97 | F8: =D8*E8/1000000 -> 0.01352877 | G8: =$G$6*F8 -> 1.352877 | H8: =$H$6*F8 -> 4.058631 | L8: =22*11*10 -> 2420 | M8: =M7/8*10 -> 2090.03 | N8: =L8-M8 -> 329.97
A9: Pluvio | B9: 22x11x8 | D9: 44 | E9: =N9 -> 276.85 | F9: =D9*E9/1000000 -> 0.0121814 | G9: =$G$6*F9 -> 1.21814 | H9: =$H$6*F9 -> 3.65442 | L9: raming (14.3% van opp x h) | N9: 276.85
B10: 22x11x10 | D10: 44 | E10: =N10 -> 346.06 | F10: =D10*E10/1000000 -> 0.01522664 | G10: =$G$6*F10 -> 1.522664 | H10: =$H$6*F10 -> 4.567992 | L10: raming (14.3% van opp x h) | N10: 346.06
A11: Hydro Brick | B11: 20x6.7x8 | D11: 74.63 | E11: =N11 -> 129.943 | F11: =D11*E11/1000000 -> 0.0096976461 | G11: =$G$6*F11 -> 0.96976461 | H11: =$H$6*F11 -> 2.9092938 | L11: =20*6.7*8 -> 1072 | M11: 942.057 | N11: =L11-M11 -> 129.943
A12: HydroStore+ | B12: 22x11x8 | D12: 41 | E12: =N12 -> 78.874 | F12: =D12*E12/1000000 -> 0.003233834 | G12: =$G$6*F12 -> 0.3233834 | H12: =$H$6*F12 -> 0.9701502 | L12: =22*11*8 -> 1936 | M12: 1857.126 | N12: =L12-M12 -> 78.874
A13: HydroStore+ | B13: 22x22x8 | D13: 20.5 | E13: =N13 -> 104.377 | F13: =D13*E13/1000000 -> 0.0021397285 | G13: =$G$6*F13 -> 0.21397285 | H13: =$H$6*F13 -> 0.64191855 | L13: =22*22*8 -> 3872 | M13: 3767.623 | N13: =L13-M13 -> 104.377
A14: Square | B14: 60x30x10 | D14: 5.5 | E14: afhankelijk van het verband | H14: =$H$6*F14 -> 0 | N14: =L14-M14 -> 0
A15: Square Cross | B15: 30x30x10 | D15: 16 | E15: afhankelijk van het verband | H15: =$H$6*F15 -> 0 | N15: =L15-M15 -> 0
A16: Ecoroc | B16: 15x15x8 | D16: 44.44 | E16: =N16 -> 237.4 | F16: =D16*E16/1000000 -> 0.010550056 | G16: =$G$6*F16 -> 1.0550056 | H16: =$H$6*F16 -> 3.1650168 | L16: raming (12.8% van opp x h) | N16: 237.4
A17: Passeo | B17: 20x16.5x10 | D17: 35.7 | E17: =N17 -> 350 | F17: =D17*E17/1000000 -> 0.012495 | G17: =$G$6*F17 -> 1.2495 | H17: =$H$6*F17 -> 3.7485 | L17: 2800 | M17: 2450 | N17: =L17-M17 -> 350
A18: Hydro Lineo 8d 22 | B18: 30x10x8 | D18: 33.33 | E18: =N18 -> 504.88 | F18: =D18*E18/1000000 -> 0.01682765 | G18: =$G$6*F18 -> 1.682765 | H18: =$H$6*F18 -> 5.0482951 | L18: =30*10*8 -> 2400 | M18: 1895.12 | N18: =L18-M18 -> 504.88
A19: Hydro Lineo 8d 40 | B19: 30x10x8 | D19: 33.33 | E19: =N19 -> 864.4 | F19: =D19*E19/1000000 -> 0.028810452 | G19: =$G$6*F19 -> 2.8810452 | H19: =$H$6*F19 -> 8.6431356 | L19: =30*10*8 -> 2400 | M19: 1535.6 | N19: =L19-M19 -> 864.4
A20: Hydro Lineo 22 | B20: 30x10x10 | D20: 33.33 | E20: =N20 -> 540 | F20: =D20*E20/1000000 -> 0.0179982 | G20: =$G$6*F20 -> 1.79982 | H20: =$H$6*F20 -> 5.39946 | L20: =30*10*10 -> 3000 | M20: 2460 | N20: =L20-M20 -> 540
A21: Hydro Lineo 40 | B21: 30x10x10 | D21: 33.33 | E21: =N21 -> 957 | F21: =D21*E21/1000000 -> 0.03189681 | G21: =$G$6*F21 -> 3.189681 | H21: =$H$6*F21 -> 9.569043 | L21: =30*10*10 -> 3000 | M21: 2043 | N21: =L21-M21 -> 957
A22: Hydro Lineo XL 25 | B22: 60x30x16 | D22: 5.55 | E22: =N22 -> 5421.064 | F22: =D22*E22/1000000 -> 0.030086905 | G22: =$G$6*F22 -> 3.0086905 | H22: =$H$6*F22 -> 9.0260716 | L22: =60*30*16 -> 28800 | M22: 23378.936 | N22: =L22-M22 -> 5421.064
A23: Hydro Lineo XL 50 | B23: 60x30x16 | D23: 5.55 | E23: =N23 -> 10196.695 | F23: =D23*E23/1000000 -> 0.056591657 | G23: =$G$6*F23 -> 5.6591657 | H23: =$H$6*F23 -> 16.977497 | L23: =60*30*16 -> 28800 | M23: 18603.305 | N23: =L23-M23 -> 10196.695
A24: GBT Hydro Lineo | B24: 30x30x10 | D24: 11.11 | E24: =N24 -> 2868.941 | F24: =D24*E24/1000000 -> 0.031873935 | G24: =$G$6*F24 -> 3.1873935 | H24: =$H$6*F24 -> 9.5621804 | L24: =30*30*10 -> 9000 | M24: 6131.059 | N24: =L24-M24 -> 2868.941
A25: GBT 60x40x10 VLAK | B25: 60x40x10 | D25: 4.17 | E25: =N25 -> 9575.2825 | F25: =D25*E25/1000000 -> 0.039928928 | G25: =$G$6*F25 -> 3.9928928 | H25: =$H$6*F25 -> 11.978678 | L25: =60*40*10 -> 24000 | M25: =M26/12*10 -> 14424.717 | N25: =L25-M25 -> 9575.2825
A26: GBT 60x40x12 VLAK | B26: 60x40x12 | D26: 4.17 | E26: =N26 -> 11490.339 | F26: =D26*E26/1000000 -> 0.047914714 | G26: =$G$6*F26 -> 4.7914714 | H26: =$H$6*F26 -> 14.374414 | L26: =60*40*12 -> 28800 | M26: 17309.661 | N26: =L26-M26 -> 11490.339
A27: GBT 60x40x12 GROEF | B27: 60x40x12 | D27: 4.17 | E27: =N27 -> 12347.042 | F27: =D27*E27/1000000 -> 0.051487165 | G27: =$G$6*F27 -> 5.1487165 | H27: =$H$6*F27 -> 15.44615 | L27: =60*40*12 -> 28800 | M27: 16452.958 | N27: =L27-M27 -> 12347.042
A28: GBT ruitmotief | B28: 20x20x8 | D28: 25 | E28: =N28 -> 1472 | F28: =D28*E28/1000000 -> 0.0368 | G28: =$G$6*F28 -> 3.68 | H28: =$H$6*F28 -> 11.04 | L28: =20*20*8 -> 3200 | M28: =L28*54/100 -> 1728 | N28: =L28-M28 -> 1472
A29: GBT lijnmotief | B29: 30x30x12 | D29: 11.11 | E29: =N29 -> 4104 | F29: =D29*E29/1000000 -> 0.04559544 | G29: =$G$6*F29 -> 4.559544 | H29: =$H$6*F29 -> 13.678632 | L29: =30*30*12 -> 10800 | M29: =L29*62/100 -> 6696 | N29: =L29-M29 -> 4104
A30: GBT Squares | B30: 60x40x12 | D30: 4.17 | E30: =N30 -> 8749.507 | F30: =D30*E30/1000000 -> 0.036485444 | G30: =$G$6*F30 -> 3.6485444 | H30: =$H$6*F30 -> 10.945633 | L30: =60*40*12 -> 28800 | M30: 20050.493 | N30: =L30-M30 -> 8749.507
A31: GBT Virage | B31: 30x30x12 | D31: 11.11 | E31: =N31 -> 4148.964 | F31: =D31*E31/1000000 -> 0.04609499 | G31: =$G$6*F31 -> 4.609499 | H31: =$H$6*F31 -> 13.828497 | L31: =30*30*12 -> 10800 | M31: 6651.036 | N31: =L31-M31 -> 4148.964
A32: GBT Mirum | B32: 60x40x12 | D32: 4.17 | E32: =N32 -> 10209.329 | F32: =D32*E32/1000000 -> 0.042572902 | G32: =$G$6*F32 -> 4.2572902 | H32: =$H$6*F32 -> 12.771871 | L32: =60*40*12 -> 28800 | M32: 18590.671 | N32: =L32-M32 -> 10209.329
